BEGIN:VCALENDAR
VERSION:2.0
PRODID:-//InStaff und Jobs GmbH
BEGIN:VEVENT
UID:335132bacb860bfa7e0d0252163b124b@instaff.jobs
DTSTAMP:20260424T041635Z
LOCATION:Europa-Park\, Europa-Park-Straße 2\, 77977 Rust
DTSTART;TZID=Europe/Brussels:20240318T070000Z
DTEND;TZID=Europe/Brussels:20240321T160000Z
SUMMARY:CloudFest 2024
DESCRIPTION:https://www.google.com/maps/search/?api=1&query=Europa-Park%2C+Europa-Park-Straße+2%2C+77977+Rust
END:VEVENT
END:VCALENDAR