BEGIN:VCALENDAR
VERSION:2.0
PRODID:-//InStaff und Jobs GmbH
BEGIN:VEVENT
UID:4451526830768f753124b629c9b20074@instaff.jobs
DTSTAMP:20260426T031136Z
LOCATION:Messe Stuttgart\, Messepiazza 1\, 70629 Stuttgart
DTSTART;TZID=Europe/Brussels:20240618T070000Z
DTEND;TZID=Europe/Brussels:20240620T160000Z
SUMMARY:MedtecLIVE 2024
DESCRIPTION:https://www.google.com/maps/search/?api=1&query=Messe+Stuttgart%2C+Messepiazza+1%2C+70629+Stuttgart
END:VEVENT
END:VCALENDAR