BEGIN:VCALENDAR
VERSION:2.0
PRODID:-//InStaff und Jobs GmbH
BEGIN:VEVENT
UID:3645e365b0955599e0f0f050d254b7dd@instaff.jobs
DTSTAMP:20260426T031212Z
LOCATION:Kultur- und Kongresszentrum Liederhalle\, Berliner Platz 1-3\, 70174 Stuttgart
DTSTART;TZID=Europe/Brussels:20240309T070000Z
DTEND;TZID=Europe/Brussels:20240309T160000Z
SUMMARY:Stuzubi Stuttgart Frühjahr 2024
DESCRIPTION:https://www.google.com/maps/search/?api=1&query=Kultur-+und+Kongresszentrum+Liederhalle%2C+Berliner+Platz+1-3%2C+70174+Stuttgart
END:VEVENT
END:VCALENDAR