BEGIN:VCALENDAR
VERSION:2.0
PRODID:-//InStaff und Jobs GmbH
BEGIN:VEVENT
UID:77f3b937a26ce17a68d5515574c1f402@instaff.jobs
DTSTAMP:20260426T031212Z
LOCATION:Estrel Berlin\, Sonnenallee 225\, 12057 Berlin
DTSTART;TZID=Europe/Brussels:20250925T070000Z
DTEND;TZID=Europe/Brussels:20250928T160000Z
SUMMARY:DOG Kongress 2025
DESCRIPTION:https://www.google.com/maps/search/?api=1&query=Estrel+Berlin%2C+Sonnenallee+225%2C+12057+Berlin
END:VEVENT
END:VCALENDAR