BEGIN:VCALENDAR
VERSION:2.0
PRODID:-//InStaff und Jobs GmbH
BEGIN:VEVENT
UID:163aa919f9bed0d1f2ba75b5b23ef77d@instaff.jobs
DTSTAMP:20260426T031125Z
LOCATION:Messe Berlin\, Messedamm 22\, 14055 Berlin\, Deutschland
DTSTART;TZID=Europe/Brussels:20251024T070000Z
DTEND;TZID=Europe/Brussels:20251026T160000Z
SUMMARY:MEX 2025
DESCRIPTION:https://www.google.com/maps/search/?api=1&query=Messe+Berlin%2C+Messedamm+22%2C+14055+Berlin%2C+Deutschland
END:VEVENT
END:VCALENDAR