BEGIN:VCALENDAR
VERSION:2.0
PRODID:-//InStaff und Jobs GmbH
BEGIN:VEVENT
UID:fb1577b3b0ad135cb73e923775e610f3@instaff.jobs
DTSTAMP:20260423T153451Z
LOCATION:Goethe-Universität Frankfurt\/Campus Westend - Casino-Gebäude\, Nina-Rubinstein-Weg 1\, 60323 Frankfurt am Main
DTSTART;TZID=Europe/Brussels:20251206T070000Z
DTEND;TZID=Europe/Brussels:20251206T160000Z
SUMMARY:Azubi2B Frankfurt 2025
DESCRIPTION:https://www.google.com/maps/search/?api=1&query=Goethe-Universität+Frankfurt/Campus+Westend+-+Casino-Gebäude%2C+Nina-Rubinstein-Weg+1%2C+60323+Frankfurt+am+Main
END:VEVENT
END:VCALENDAR