BEGIN:VCALENDAR
VERSION:2.0
PRODID:-//InStaff und Jobs GmbH
BEGIN:VEVENT
UID:dba4ae0e64bc3a47150c1761c234b282@instaff.jobs
DTSTAMP:20260423T141630Z
LOCATION:Koelnmesse\, Messepl\. 1\, 50679 Köln
DTSTART;TZID=Europe/Brussels:20250909T070000Z
DTEND;TZID=Europe/Brussels:20250911T160000Z
SUMMARY:Kind + Jugend 2025
DESCRIPTION:https://www.google.com/maps/search/?api=1&query=Koelnmesse%2C+Messepl.+1%2C+50679+Köln
END:VEVENT
END:VCALENDAR