BEGIN:VCALENDAR
VERSION:2.0
PRODID:-//InStaff und Jobs GmbH
BEGIN:VEVENT
UID:25fbf670587644f3ba74a1f0d4013198@instaff.jobs
DTSTAMP:20260423T205628Z
LOCATION:Nürnberg Messe\, Messezentrum 1\, 90471 Nürnberg
DTSTART;TZID=Europe/Brussels:20251208T070000Z
DTEND;TZID=Europe/Brussels:20251211T160000Z
SUMMARY:BERUFSBILDUNG 2025
DESCRIPTION:https://www.google.com/maps/search/?api=1&query=Nürnberg+Messe%2C+Messezentrum+1%2C+90471+Nürnberg
END:VEVENT
END:VCALENDAR