BEGIN:VCALENDAR
VERSION:2.0
PRODID:-//InStaff und Jobs GmbH
BEGIN:VEVENT
UID:6c9881c371d7a83867badfaad70a24e8@instaff.jobs
DTSTAMP:20260421T164020Z
LOCATION:CinemaxX\, Moselstraße 17\, 54290 Trier
DTSTART;TZID=Europe/Brussels:20250925T070000Z
DTEND;TZID=Europe/Brussels:20250925T160000Z
SUMMARY:AZUBISPOT Trier 2025
DESCRIPTION:https://www.google.com/maps/search/?api=1&query=CinemaxX%2C+Moselstraße+17%2C+54290+Trier
END:VEVENT
BEGIN:VEVENT
UID:0cb69570bebfdbc4039ebf770a44fe4c@instaff.jobs
DTSTAMP:20260421T164020Z
LOCATION:SWT Arena Trier\, Fort Worth-Platz 1\, 54292 Trier
DTSTART;TZID=Europe/Brussels:20251108T070000Z
DTEND;TZID=Europe/Brussels:20251109T160000Z
SUMMARY:meinZuhause! Trier 2025
DESCRIPTION:https://www.google.com/maps/search/?api=1&query=SWT+Arena+Trier%2C+Fort+Worth-Platz+1%2C+54292+Trier
END:VEVENT
END:VCALENDAR