BEGIN:VCALENDAR
VERSION:2.0
PRODID:-//InStaff und Jobs GmbH
BEGIN:VEVENT
UID:12c83a3a45a653003e597a8f14d7a335@instaff.jobs
DTSTAMP:20260425T180605Z
LOCATION:tectake ARENA\, Stettiner Str\. 1\, 97072 Würzburg
DTSTART;TZID=Europe/Brussels:20250624T070000Z
DTEND;TZID=Europe/Brussels:20250625T160000Z
SUMMARY:vocatium Würzburg/Schweinfurt 2025
DESCRIPTION:https://www.google.com/maps/search/?api=1&query=tectake+ARENA%2C+Stettiner+Str.+1%2C+97072+Würzburg
END:VEVENT
END:VCALENDAR