BEGIN:VCALENDAR
VERSION:2.0
PRODID:-//InStaff und Jobs GmbH
BEGIN:VEVENT
UID:ca12322f1b2a7048830364cc138f7332@instaff.jobs
DTSTAMP:20260421T114220Z
LOCATION:Arena der Volkswagen Halle Braunschweig\, Europapl\. 1\, 38122 Braunschweig
DTSTART;TZID=Europe/Brussels:20261007T070000Z
DTEND;TZID=Europe/Brussels:20261007T160000Z
SUMMARY:parentum Braunschweig 2026
DESCRIPTION:https://www.google.com/maps/search/?api=1&query=Arena+der+Volkswagen+Halle+Braunschweig%2C+Europapl.+1%2C+38122+Braunschweig
END:VEVENT
END:VCALENDAR