BEGIN:VCALENDAR
VERSION:2.0
PRODID:-//InStaff und Jobs GmbH
BEGIN:VEVENT
UID:48968ad07d66a3c56a28daca74f2937d@instaff.jobs
DTSTAMP:20260424T120314Z
LOCATION:Kraftzentrale\, Emscherstraße 71\, 47137 Duisburg
DTSTART;TZID=Europe/Brussels:20260516T070000Z
DTEND;TZID=Europe/Brussels:20260517T160000Z
SUMMARY:Apothekentour Duisburg 2026
DESCRIPTION:https://www.google.com/maps/search/?api=1&query=Kraftzentrale%2C+Emscherstraße+71%2C+47137+Duisburg
END:VEVENT
END:VCALENDAR