BEGIN:VCALENDAR
VERSION:2.0
PRODID:-//InStaff und Jobs GmbH
BEGIN:VEVENT
UID:b863e3ea33c6c5aa544130702c06d82b@instaff.jobs
DTSTAMP:20260422T100705Z
LOCATION:Liebigschule Frankfurt\, Kollwitzstraße 3\, 60488 Frankfurt am Main
DTSTART;TZID=Europe/Brussels:20260207T070000Z
DTEND;TZID=Europe/Brussels:20260207T160000Z
SUMMARY:AUF IN DIE WELT Frankfurt 2026
DESCRIPTION:https://www.google.com/maps/search/?api=1&query=Liebigschule+Frankfurt%2C+Kollwitzstraße+3%2C+60488+Frankfurt+am+Main
END:VEVENT
END:VCALENDAR