BEGIN:VCALENDAR
VERSION:2.0
PRODID:-//InStaff und Jobs GmbH
BEGIN:VEVENT
UID:64755bd7fa0500dd5c851e7d75e8f34f@instaff.jobs
DTSTAMP:20260422T100305Z
LOCATION:The Westin Grand Frankfurt\, Konrad-Adenauer-Straße 7\, 60313 Frankfurt am Main
DTSTART;TZID=Europe/Brussels:20260302T070000Z
DTEND;TZID=Europe/Brussels:20260306T160000Z
SUMMARY:BASTA! Spring 2026
DESCRIPTION:https://www.google.com/maps/search/?api=1&query=The+Westin+Grand+Frankfurt%2C+Konrad-Adenauer-Straße+7%2C+60313+Frankfurt+am+Main
END:VEVENT
END:VCALENDAR