BEGIN:VCALENDAR
VERSION:2.0
PRODID:-//InStaff und Jobs GmbH
BEGIN:VEVENT
UID:848f074324ec3e13199be9ab2c2333a5@instaff.jobs
DTSTAMP:20260422T095741Z
LOCATION:myticket Jahrhunderthalle\, Pfaffenwiese 301\, 65929 Frankfurt
DTSTART;TZID=Europe/Brussels:20260304T070000Z
DTEND;TZID=Europe/Brussels:20260304T160000Z
SUMMARY:LAB-SUPPLY Frankfurt 2026
DESCRIPTION:https://www.google.com/maps/search/?api=1&query=myticket+Jahrhunderthalle%2C+Pfaffenwiese+301%2C+65929+Frankfurt
END:VEVENT
END:VCALENDAR