BEGIN:VCALENDAR
VERSION:2.0
PRODID:-//InStaff und Jobs GmbH
BEGIN:VEVENT
UID:53b5cee213e9cc029499146449f929dc@instaff.jobs
DTSTAMP:20260420T190659Z
LOCATION:Messe Freiburg\, Hermann-Mitsch-Straße 3\, 79108 Freiburg
DTSTART;TZID=Europe/Brussels:20260110T070000Z
DTEND;TZID=Europe/Brussels:20260111T160000Z
SUMMARY:Trau Freiburg 2026
DESCRIPTION:https://www.google.com/maps/search/?api=1&query=Messe+Freiburg%2C+Hermann-Mitsch-Straße+3%2C+79108+Freiburg
END:VEVENT
BEGIN:VEVENT
UID:1414b606a08be9d787057dc4d71c19b8@instaff.jobs
DTSTAMP:20260420T190659Z
LOCATION:Bürgerhaus Freiburg-Zähringen\, Lameystraße 2\, 79108 Freiburg im Breisgau
DTSTART;TZID=Europe/Brussels:20260131T070000Z
DTEND;TZID=Europe/Brussels:20260201T160000Z
SUMMARY:Lebensfreude Messe Freiburg 2026
DESCRIPTION:https://www.google.com/maps/search/?api=1&query=Bürgerhaus+Freiburg-Zähringen%2C+Lameystraße+2%2C+79108+Freiburg+im+Breisgau
END:VEVENT
BEGIN:VEVENT
UID:479404523c148ec791d01bbcfcf83140@instaff.jobs
DTSTAMP:20260420T190659Z
LOCATION:St\. Ursula-Gymnasium\, Eisenbahnstraße 45\, 79098 Freiburg
DTSTART;TZID=Europe/Brussels:20260314T070000Z
DTEND;TZID=Europe/Brussels:20260314T160000Z
SUMMARY:JuBi – Die JugendBildungsmesse Freiburg 2026
DESCRIPTION:https://www.google.com/maps/search/?api=1&query=St.+Ursula-Gymnasium%2C+Eisenbahnstraße+45%2C+79098+Freiburg
END:VEVENT
BEGIN:VEVENT
UID:62304346d217b16b16e9a7995fc84375@instaff.jobs
DTSTAMP:20260420T190659Z
LOCATION:Messe Freiburg\, Neuer Messplatz 1\, 79108 Freiburg im Breisgau
DTSTART;TZID=Europe/Brussels:20260321T070000Z
DTEND;TZID=Europe/Brussels:20260321T160000Z
SUMMARY:einstieg Freiburg 2026
DESCRIPTION:https://www.google.com/maps/search/?api=1&query=Messe+Freiburg%2C+Neuer+Messplatz+1%2C+79108+Freiburg+im+Breisgau
END:VEVENT
BEGIN:VEVENT
UID:d6879e4e8c3efd0c17f38884f912d949@instaff.jobs
DTSTAMP:20260420T190659Z
LOCATION:Messe Freiburg\, Neuer Messplatz 1\, 79108 Freiburg im Breisgau
DTSTART;TZID=Europe/Brussels:20260519T070000Z
DTEND;TZID=Europe/Brussels:20260520T160000Z
SUMMARY:vocatium Freiburg 2026
DESCRIPTION:https://www.google.com/maps/search/?api=1&query=Messe+Freiburg%2C+Neuer+Messplatz+1%2C+79108+Freiburg+im+Breisgau
END:VEVENT
BEGIN:VEVENT
UID:04bf59be8f4879a26bd9cbd54a9fca95@instaff.jobs
DTSTAMP:20260420T190659Z
LOCATION:Messe Freiburg\, Neuer Messplatz 1\, 79108 Freiburg im Breisgau
DTSTART;TZID=Europe/Brussels:20260608T070000Z
DTEND;TZID=Europe/Brussels:20260612T160000Z
SUMMARY:Deutscher Anwaltstag 2026
DESCRIPTION:https://www.google.com/maps/search/?api=1&query=Messe+Freiburg%2C+Neuer+Messplatz+1%2C+79108+Freiburg+im+Breisgau
END:VEVENT
BEGIN:VEVENT
UID:40dfe055c19c2282622229776044578c@instaff.jobs
DTSTAMP:20260420T190659Z
LOCATION:CinemaxX\, Bertoldstraße 50\, 79098 Freiburg
DTSTART;TZID=Europe/Brussels:20260923T070000Z
DTEND;TZID=Europe/Brussels:20260923T160000Z
SUMMARY:AZUBISPOT Freiburg 2026
DESCRIPTION:https://www.google.com/maps/search/?api=1&query=CinemaxX%2C+Bertoldstraße+50%2C+79098+Freiburg
END:VEVENT
BEGIN:VEVENT
UID:25c40aa0c5327b126968f7b96e673d87@instaff.jobs
DTSTAMP:20260420T190659Z
LOCATION:Messe Freiburg\, Neuer Messplatz 1\, 79108 Freiburg im Breisgau
DTSTART;TZID=Europe/Brussels:20261001T070000Z
DTEND;TZID=Europe/Brussels:20261004T160000Z
SUMMARY:caravan live 2026
DESCRIPTION:https://www.google.com/maps/search/?api=1&query=Messe+Freiburg%2C+Neuer+Messplatz+1%2C+79108+Freiburg+im+Breisgau
END:VEVENT
BEGIN:VEVENT
UID:6587a51ef3f71278da16788f61693284@instaff.jobs
DTSTAMP:20260420T190659Z
LOCATION:Europa-Park-Stadion\, Achim-Stocker-Straße 1\, 79108 Freiburg im Breisgau
DTSTART;TZID=Europe/Brussels:20261007T070000Z
DTEND;TZID=Europe/Brussels:20261007T160000Z
SUMMARY:Karrieretag Freiburg 2026
DESCRIPTION:https://www.google.com/maps/search/?api=1&query=Europa-Park-Stadion%2C+Achim-Stocker-Straße+1%2C+79108+Freiburg+im+Breisgau
END:VEVENT
BEGIN:VEVENT
UID:461cc677afe9baa3b2674a5a49017b53@instaff.jobs
DTSTAMP:20260420T190659Z
LOCATION:Messe Freiburg SICK-ARENA\, Neuer Messplatz 1\, 79108 Freiburg im Breisgau
DTSTART;TZID=Europe/Brussels:20261016T070000Z
DTEND;TZID=Europe/Brussels:20261017T160000Z
SUMMARY:LEBEN UND TOD Freiburg 2026
DESCRIPTION:https://www.google.com/maps/search/?api=1&query=Messe+Freiburg+SICK-ARENA%2C+Neuer+Messplatz+1%2C+79108+Freiburg+im+Breisgau
END:VEVENT
BEGIN:VEVENT
UID:705d98350b30313c5be5fa156ab160ad@instaff.jobs
DTSTAMP:20260420T190659Z
LOCATION:Messe Freiburg\, Neuer Messplatz 1\, 79108 Freiburg im Breisgau
DTSTART;TZID=Europe/Brussels:20261021T070000Z
DTEND;TZID=Europe/Brussels:20261021T160000Z
SUMMARY:LAB-SUPPLY Freiburg 2026
DESCRIPTION:https://www.google.com/maps/search/?api=1&query=Messe+Freiburg%2C+Neuer+Messplatz+1%2C+79108+Freiburg+im+Breisgau
END:VEVENT
END:VCALENDAR