BEGIN:VCALENDAR
VERSION:2.0
PRODID:-//InStaff und Jobs GmbH
BEGIN:VEVENT
UID:5815292b573b6e5404a58a6575d57f0e@instaff.jobs
DTSTAMP:20260419T135538Z
LOCATION:Messe Friedrichshafen\, Neue Messe 1\, 88046 Friedrichshafen
DTSTART;TZID=Europe/Brussels:20260923T070000Z
DTEND;TZID=Europe/Brussels:20260927T160000Z
SUMMARY:INTERBOOT 2026
DESCRIPTION:https://www.google.com/maps/search/?api=1&query=Messe+Friedrichshafen%2C+Neue+Messe+1%2C+88046+Friedrichshafen
END:VEVENT
END:VCALENDAR