BEGIN:VCALENDAR
VERSION:2.0
PRODID:-//InStaff und Jobs GmbH
BEGIN:VEVENT
UID:c2af7bf03721dd2f2065fdf9a9354606@instaff.jobs
DTSTAMP:20260419T135538Z
LOCATION:Messe Friedrichshafen\, Neue Messe 1\, 88046 Friedrichshafen
DTSTART;TZID=Europe/Brussels:20261113T070000Z
DTEND;TZID=Europe/Brussels:20261114T160000Z
SUMMARY:Vertical Pro 2026
DESCRIPTION:https://www.google.com/maps/search/?api=1&query=Messe+Friedrichshafen%2C+Neue+Messe+1%2C+88046+Friedrichshafen
END:VEVENT
END:VCALENDAR