BEGIN:VCALENDAR
VERSION:2.0
PRODID:-//InStaff und Jobs GmbH
BEGIN:VEVENT
UID:f741953094ba18245d6a7b32a78fcd54@instaff.jobs
DTSTAMP:20260422T193333Z
LOCATION:Alte Druckerei Hannover\, August-Madsack-Straße 1\, 30559 Hannover
DTSTART;TZID=Europe/Brussels:20260509T070000Z
DTEND;TZID=Europe/Brussels:20260510T160000Z
SUMMARY:Apothekentour Hannover 2026
DESCRIPTION:https://www.google.com/maps/search/?api=1&query=Alte+Druckerei+Hannover%2C+August-Madsack-Straße+1%2C+30559+Hannover
END:VEVENT
END:VCALENDAR