BEGIN:VCALENDAR
VERSION:2.0
PRODID:-//InStaff und Jobs GmbH
BEGIN:VEVENT
UID:cba5b3f7a91d1a8ca11e82af92dfcff3@instaff.jobs
DTSTAMP:20260422T171740Z
LOCATION:Soling 22\, Soling 22\, 24159 Kiel
DTSTART;TZID=Europe/Brussels:20260620T070000Z
DTEND;TZID=Europe/Brussels:20260628T160000Z
SUMMARY:Kieler Woche 2026
DESCRIPTION:https://www.google.com/maps/search/?api=1&query=Soling+22%2C+Soling+22%2C+24159+Kiel
END:VEVENT
END:VCALENDAR