BEGIN:VCALENDAR
VERSION:2.0
PRODID:-//InStaff und Jobs GmbH
BEGIN:VEVENT
UID:a118208406a860a8a4c26d31d887b080@instaff.jobs
DTSTAMP:20260425T195508Z
LOCATION:Industrie- und Handelskammer zu Kiel\, Bergstraße 2\, 24103 Kiel
DTSTART;TZID=Europe/Brussels:20260925T070000Z
DTEND;TZID=Europe/Brussels:20260925T160000Z
SUMMARY:parentum Kiel 2026
DESCRIPTION:https://www.google.com/maps/search/?api=1&query=Industrie-+und+Handelskammer+zu+Kiel%2C+Bergstraße+2%2C+24103+Kiel
END:VEVENT
END:VCALENDAR