BEGIN:VCALENDAR
VERSION:2.0
PRODID:-//InStaff und Jobs GmbH
BEGIN:VEVENT
UID:98c59462911b05f67741e17371357f73@instaff.jobs
DTSTAMP:20260426T031135Z
LOCATION:Ostseekai Kiel\, Ostseekai 1\, 24105 Kiel
DTSTART;TZID=Europe/Brussels:20260313T070000Z
DTEND;TZID=Europe/Brussels:20260315T160000Z
SUMMARY:WEINmesse Kiel 2026
DESCRIPTION:https://www.google.com/maps/search/?api=1&query=Ostseekai+Kiel%2C+Ostseekai+1%2C+24105+Kiel
END:VEVENT
END:VCALENDAR