BEGIN:VCALENDAR
VERSION:2.0
PRODID:-//InStaff und Jobs GmbH
BEGIN:VEVENT
UID:96c0a2c074c0a18d7ff3b9610d70972f@instaff.jobs
DTSTAMP:20260422T174817Z
LOCATION:Koelnmesse Halle 1\, Messepl\. 1\, 50679 Köln
DTSTART;TZID=Europe/Brussels:20260314T070000Z
DTEND;TZID=Europe/Brussels:20260315T160000Z
SUMMARY:Apothekentour Köln 2026
DESCRIPTION:https://www.google.com/maps/search/?api=1&query=Koelnmesse+Halle+1%2C+Messepl.+1%2C+50679+Köln
END:VEVENT
END:VCALENDAR