BEGIN:VCALENDAR
VERSION:2.0
PRODID:-//InStaff und Jobs GmbH
BEGIN:VEVENT
UID:7bc07724afe665d40dc2a37d33d851f6@instaff.jobs
DTSTAMP:20260421T095509Z
LOCATION:Koelnmesse\, Messepl\. 1\, 50679 Köln
DTSTART;TZID=Europe/Brussels:20261030T070000Z
DTEND;TZID=Europe/Brussels:20261031T160000Z
SUMMARY:idd cologne 2026
DESCRIPTION:https://www.google.com/maps/search/?api=1&query=Koelnmesse%2C+Messepl.+1%2C+50679+Köln
END:VEVENT
END:VCALENDAR