BEGIN:VCALENDAR
VERSION:2.0
PRODID:-//InStaff und Jobs GmbH
BEGIN:VEVENT
UID:62fa0c521c2ca2be16da0b55496c0739@instaff.jobs
DTSTAMP:20260419T115231Z
LOCATION:Koelnmesse - Halle 1\, Messepl\. 1\, 50679 Köln
DTSTART;TZID=Europe/Brussels:20260610T070000Z
DTEND;TZID=Europe/Brussels:20260611T160000Z
SUMMARY:iVT Expo 2026
DESCRIPTION:https://www.google.com/maps/search/?api=1&query=Koelnmesse+-+Halle+1%2C+Messepl.+1%2C+50679+Köln
END:VEVENT
END:VCALENDAR