BEGIN:VCALENDAR
VERSION:2.0
PRODID:-//InStaff und Jobs GmbH
BEGIN:VEVENT
UID:ef8ff81cc4ca929663b64eced8b136ca@instaff.jobs
DTSTAMP:20260421T053531Z
LOCATION:Kongresshalle am Zoo\, Pfaffendorfer Str\. 31\, 04105 Leipzig
DTSTART;TZID=Europe/Brussels:20260610T070000Z
DTEND;TZID=Europe/Brussels:20260611T160000Z
SUMMARY:Deutscher Kitaleitungskongress (DKLK) Leipzig 2026
DESCRIPTION:https://www.google.com/maps/search/?api=1&query=Kongresshalle+am+Zoo%2C+Pfaffendorfer+Str.+31%2C+04105+Leipzig
END:VEVENT
END:VCALENDAR