BEGIN:VCALENDAR
VERSION:2.0
PRODID:-//InStaff und Jobs GmbH
BEGIN:VEVENT
UID:e0a389e5b25c6de7557bf43cf7fe6bbd@instaff.jobs
DTSTAMP:20260421T053347Z
LOCATION:agra Messepark Leipzig\, Bornaische Str\. 210\, 04279 Leipzig
DTSTART;TZID=Europe/Brussels:20261002T070000Z
DTEND;TZID=Europe/Brussels:20261004T160000Z
SUMMARY:Jagd & Angeln 2026
DESCRIPTION:https://www.google.com/maps/search/?api=1&query=agra+Messepark+Leipzig%2C+Bornaische+Str.+210%2C+04279+Leipzig
END:VEVENT
END:VCALENDAR