BEGIN:VCALENDAR
VERSION:2.0
PRODID:-//InStaff und Jobs GmbH
BEGIN:VEVENT
UID:f13b3899621c3bdf4bcf2c3d6c9d5d08@instaff.jobs
DTSTAMP:20260421T053514Z
LOCATION:Leipziger Messe\, Messe-Allee 1\, 04356 Leipzig
DTSTART;TZID=Europe/Brussels:20261118T070000Z
DTEND;TZID=Europe/Brussels:20261122T160000Z
SUMMARY:Touristik & Caravaning 2026
DESCRIPTION:https://www.google.com/maps/search/?api=1&query=Leipziger+Messe%2C+Messe-Allee+1%2C+04356+Leipzig
END:VEVENT
END:VCALENDAR