BEGIN:VCALENDAR
VERSION:2.0
PRODID:-//InStaff und Jobs GmbH
BEGIN:VEVENT
UID:c8956a7475eda0b3089fcf68972bc149@instaff.jobs
DTSTAMP:20260424T093353Z
LOCATION:Halle 45\, Hauptstraße 17-19\, 55120 Mainz
DTSTART;TZID=Europe/Brussels:20260530T070000Z
DTEND;TZID=Europe/Brussels:20260531T160000Z
SUMMARY:Apothekentour Mainz 2026
DESCRIPTION:https://www.google.com/maps/search/?api=1&query=Halle+45%2C+Hauptstraße+17-19%2C+55120+Mainz
END:VEVENT
END:VCALENDAR