BEGIN:VCALENDAR
VERSION:2.0
PRODID:-//InStaff und Jobs GmbH
BEGIN:VEVENT
UID:4c3d8d4269c364929024d4307623b232@instaff.jobs
DTSTAMP:20260423T030918Z
LOCATION:Messe München\, Messegelände\, 81823 München
DTSTART;TZID=Europe/Brussels:20261013T070000Z
DTEND;TZID=Europe/Brussels:20261014T160000Z
SUMMARY:eMove360° Europe 2026
DESCRIPTION:https://www.google.com/maps/search/?api=1&query=Messe+München%2C+Messegelände%2C+81823+München
END:VEVENT
END:VCALENDAR