BEGIN:VCALENDAR
VERSION:2.0
PRODID:-//InStaff und Jobs GmbH
BEGIN:VEVENT
UID:9cd2516e6686f6d762341d7af8d2af87@instaff.jobs
DTSTAMP:20260422T104800Z
LOCATION:Messe München\, Messegelände\, 81823 München
DTSTART;TZID=Europe/Brussels:20261125T070000Z
DTEND;TZID=Europe/Brussels:20261129T160000Z
SUMMARY:Food & Life (2) 2026
DESCRIPTION:https://www.google.com/maps/search/?api=1&query=Messe+München%2C+Messegelände%2C+81823+München
END:VEVENT
END:VCALENDAR