BEGIN:VCALENDAR
VERSION:2.0
PRODID:-//InStaff und Jobs GmbH
BEGIN:VEVENT
UID:e141bddf3a6a2740035ad7926eb49b13@instaff.jobs
DTSTAMP:20260424T220203Z
LOCATION:Messe München\, Messegelände\, 81823 München
DTSTART;TZID=Europe/Brussels:20260304T070000Z
DTEND;TZID=Europe/Brussels:20260308T160000Z
SUMMARY:Food & Life 2026
DESCRIPTION:https://www.google.com/maps/search/?api=1&query=Messe+München%2C+Messegelände%2C+81823+München
END:VEVENT
END:VCALENDAR