BEGIN:VCALENDAR
VERSION:2.0
PRODID:-//InStaff und Jobs GmbH
BEGIN:VEVENT
UID:dfa658f8bfd274acd011d104664ef0d3@instaff.jobs
DTSTAMP:20260420T104454Z
LOCATION:
DTSTART;TZID=Europe/Brussels:20261204T070000Z
DTEND;TZID=Europe/Brussels:20261204T160000Z
SUMMARY:IT Day München 2026
DESCRIPTION:
END:VEVENT
END:VCALENDAR