BEGIN:VCALENDAR
VERSION:2.0
PRODID:-//InStaff und Jobs GmbH
BEGIN:VEVENT
UID:4f9bedb93e680a0f2278118f0c018050@instaff.jobs
DTSTAMP:20260421T084359Z
LOCATION:MOC Veranstaltungscenter\, Lilienthalallee 40\, 80939 München
DTSTART;TZID=Europe/Brussels:20261007T070000Z
DTEND;TZID=Europe/Brussels:20261008T160000Z
SUMMARY:maintenance München 2026
DESCRIPTION:https://www.google.com/maps/search/?api=1&query=MOC+Veranstaltungscenter%2C+Lilienthalallee+40%2C+80939+München
END:VEVENT
END:VCALENDAR