BEGIN:VCALENDAR
VERSION:2.0
PRODID:-//InStaff und Jobs GmbH
BEGIN:VEVENT
UID:cfcd26c3f30b8df83ac9178964c11781@instaff.jobs
DTSTAMP:20260423T090149Z
LOCATION:MOC Veranstaltungscenter\, Lilienthalallee 40\, 80939 München
DTSTART;TZID=Europe/Brussels:20261020T070000Z
DTEND;TZID=Europe/Brussels:20261021T160000Z
SUMMARY:Personalmesse München 2026
DESCRIPTION:https://www.google.com/maps/search/?api=1&query=MOC+Veranstaltungscenter%2C+Lilienthalallee+40%2C+80939+München
END:VEVENT
END:VCALENDAR