BEGIN:VCALENDAR
VERSION:2.0
PRODID:-//InStaff und Jobs GmbH
BEGIN:VEVENT
UID:dd6a29bc4d04a57e509688f2164209c0@instaff.jobs
DTSTAMP:20260422T193400Z
LOCATION:das Stadtwerk\.Donau-Arena\, Walhalla-Allee 22\, 93059 Regensburg
DTSTART;TZID=Europe/Brussels:20260606T070000Z
DTEND;TZID=Europe/Brussels:20260607T160000Z
SUMMARY:Apothekentour Regensburg 2026
DESCRIPTION:https://www.google.com/maps/search/?api=1&query=das+Stadtwerk.Donau-Arena%2C+Walhalla-Allee+22%2C+93059+Regensburg
END:VEVENT
END:VCALENDAR