BEGIN:VCALENDAR
VERSION:2.0
PRODID:-//InStaff und Jobs GmbH
BEGIN:VEVENT
UID:736e048f5c065a766aa060419c62522a@instaff.jobs
DTSTAMP:20260424T041500Z
LOCATION:Europa-Park\, Europa-Park-Straße 2\, 77977 Rust
DTSTART;TZID=Europe/Brussels:20260323T070000Z
DTEND;TZID=Europe/Brussels:20260326T160000Z
SUMMARY:CloudFest 2026
DESCRIPTION:https://www.google.com/maps/search/?api=1&query=Europa-Park%2C+Europa-Park-Straße+2%2C+77977+Rust
END:VEVENT
END:VCALENDAR