BEGIN:VCALENDAR
VERSION:2.0
PRODID:-//InStaff und Jobs GmbH
BEGIN:VEVENT
UID:c27f397476ebf4766371a0e048e54540@instaff.jobs
DTSTAMP:20260424T022854Z
LOCATION:Kultur- und Kongresszentrum Liederhalle\, Berliner Platz 1-3\, 70174 Stuttgart
DTSTART;TZID=Europe/Brussels:20260313T070000Z
DTEND;TZID=Europe/Brussels:20260315T160000Z
SUMMARY:BLICKFANG Stuttgart 2026
DESCRIPTION:https://www.google.com/maps/search/?api=1&query=Kultur-+und+Kongresszentrum+Liederhalle%2C+Berliner+Platz+1-3%2C+70174+Stuttgart
END:VEVENT
END:VCALENDAR