BEGIN:VCALENDAR
VERSION:2.0
PRODID:-//InStaff und Jobs GmbH
BEGIN:VEVENT
UID:efd42d4da8e45a57a56b4bb9ae9fded5@instaff.jobs
DTSTAMP:20260424T023024Z
LOCATION:Schwabenlandhalle\, Guntram-Palm-Platz 1\, 70734 Fellbach
DTSTART;TZID=Europe/Brussels:20260413T070000Z
DTEND;TZID=Europe/Brussels:20260414T160000Z
SUMMARY:Deutscher Kitaleitungskongress (DKLK) Stuttgart 2026
DESCRIPTION:https://www.google.com/maps/search/?api=1&query=Schwabenlandhalle%2C+Guntram-Palm-Platz+1%2C+70734+Fellbach
END:VEVENT
END:VCALENDAR