BEGIN:VCALENDAR
VERSION:2.0
PRODID:-//InStaff und Jobs GmbH
BEGIN:VEVENT
UID:d8633cbfe5b0bc38fe3450c68f8a969f@instaff.jobs
DTSTAMP:20260421T171657Z
LOCATION:Messe Stuttgart\, Messepiazza 1\, 70629 Stuttgart
DTSTART;TZID=Europe/Brussels:20260609T070000Z
DTEND;TZID=Europe/Brussels:20260611T160000Z
SUMMARY:The Battery Show Europe 2026
DESCRIPTION:https://www.google.com/maps/search/?api=1&query=Messe+Stuttgart%2C+Messepiazza+1%2C+70629+Stuttgart
END:VEVENT
END:VCALENDAR