BEGIN:VCALENDAR
VERSION:2.0
PRODID:-//InStaff und Jobs GmbH
BEGIN:VEVENT
UID:1a0464da497a546bea30c21c2d3570dc@instaff.jobs
DTSTAMP:20260423T010955Z
LOCATION:Messe Augsburg\, Am Messezentrum 5\, 86159 Augsburg
DTSTART;TZID=Europe/Brussels:20270115T070000Z
DTEND;TZID=Europe/Brussels:20270117T160000Z
SUMMARY:JAGEN UND FISCHEN 2027
DESCRIPTION:https://www.google.com/maps/search/?api=1&query=Messe+Augsburg%2C+Am+Messezentrum+5%2C+86159+Augsburg
END:VEVENT
END:VCALENDAR