BEGIN:VCALENDAR
VERSION:2.0
PRODID:-//InStaff und Jobs GmbH
BEGIN:VEVENT
UID:b9b6d81e1e25abe3c5766455a266a3a2@instaff.jobs
DTSTAMP:20260423T184021Z
LOCATION:Messe Dresden\, Messering 6\, 01067 Dresden
DTSTART;TZID=Europe/Brussels:20270225T070000Z
DTEND;TZID=Europe/Brussels:20270228T160000Z
SUMMARY:HAUS 2027
DESCRIPTION:https://www.google.com/maps/search/?api=1&query=Messe+Dresden%2C+Messering+6%2C+01067+Dresden
END:VEVENT
END:VCALENDAR