BEGIN:VCALENDAR
VERSION:2.0
PRODID:-//InStaff und Jobs GmbH
BEGIN:VEVENT
UID:9b9bd0c9d8ecb557847d8a92633272f2@instaff.jobs
DTSTAMP:20260424T175840Z
LOCATION:Messe Dresden\, Messering 6\, 01067 Dresden
DTSTART;TZID=Europe/Brussels:20270122T070000Z
DTEND;TZID=Europe/Brussels:20270124T160000Z
SUMMARY:KarriereStart 2027
DESCRIPTION:https://www.google.com/maps/search/?api=1&query=Messe+Dresden%2C+Messering+6%2C+01067+Dresden
END:VEVENT
END:VCALENDAR