BEGIN:VCALENDAR
VERSION:2.0
PRODID:-//InStaff und Jobs GmbH
BEGIN:VEVENT
UID:c4c8fa2c5585c36fc8a40b53f0e2fca6@instaff.jobs
DTSTAMP:20260424T180106Z
LOCATION:Messe Essen\, Messeplatz 1\, 45131 Essen
DTSTART;TZID=Europe/Brussels:20270403T070000Z
DTEND;TZID=Europe/Brussels:20270405T160000Z
SUMMARY:European Bridal Week 2027
DESCRIPTION:https://www.google.com/maps/search/?api=1&query=Messe+Essen%2C+Messeplatz+1%2C+45131+Essen
END:VEVENT
END:VCALENDAR