BEGIN:VCALENDAR
VERSION:2.0
PRODID:-//InStaff und Jobs GmbH
BEGIN:VEVENT
UID:497a470b1a5077519d6dd89a57d0e970@instaff.jobs
DTSTAMP:20260423T205035Z
LOCATION:Messe Hamburg - Halle A4\, Messepl\. 1\, 20357 Hamburg
DTSTART;TZID=Europe/Brussels:20270212T070000Z
DTEND;TZID=Europe/Brussels:20270214T160000Z
SUMMARY:Hanse Golf 2027
DESCRIPTION:https://www.google.com/maps/search/?api=1&query=Messe+Hamburg+-+Halle+A4%2C+Messepl.+1%2C+20357+Hamburg
END:VEVENT
END:VCALENDAR