BEGIN:VCALENDAR
VERSION:2.0
PRODID:-//InStaff und Jobs GmbH
BEGIN:VEVENT
UID:ee9256269887ce332acc370205e160b9@instaff.jobs
DTSTAMP:20260424T144316Z
LOCATION:Deutsche Messe\, Messegelände\, 30521 Hannover
DTSTART;TZID=Europe/Brussels:20270302T070000Z
DTEND;TZID=Europe/Brussels:20270304T160000Z
SUMMARY:Tire Technology Expo 2027
DESCRIPTION:https://www.google.com/maps/search/?api=1&query=Deutsche+Messe%2C+Messegelände%2C+30521+Hannover
END:VEVENT
END:VCALENDAR