BEGIN:VCALENDAR
VERSION:2.0
PRODID:-//InStaff und Jobs GmbH
BEGIN:VEVENT
UID:24bc1577e1b4348486bff513779f3f54@instaff.jobs
DTSTAMP:20260425T231500Z
LOCATION:Messe Kassel\, Damaschkestraße 55\, 34121 Kassel
DTSTART;TZID=Europe/Brussels:20270518T070000Z
DTEND;TZID=Europe/Brussels:20270520T160000Z
SUMMARY:EXPOLIFE 2027
DESCRIPTION:https://www.google.com/maps/search/?api=1&query=Messe+Kassel%2C+Damaschkestraße+55%2C+34121+Kassel
END:VEVENT
END:VCALENDAR