BEGIN:VCALENDAR
VERSION:2.0
PRODID:-//InStaff und Jobs GmbH
BEGIN:VEVENT
UID:7de60ff7c7154c6b94d3746ed8124fd8@instaff.jobs
DTSTAMP:20260421T053347Z
LOCATION:Leipziger Messe\, Messe-Allee 1\, 04356 Leipzig
DTSTART;TZID=Europe/Brussels:20270602T070000Z
DTEND;TZID=Europe/Brussels:20270603T160000Z
SUMMARY:Med Logistica 2027
DESCRIPTION:https://www.google.com/maps/search/?api=1&query=Leipziger+Messe%2C+Messe-Allee+1%2C+04356+Leipzig
END:VEVENT
END:VCALENDAR