BEGIN:VCALENDAR
VERSION:2.0
PRODID:-//InStaff und Jobs GmbH
BEGIN:VEVENT
UID:df1d9cbde91a2c52760e1cc84319fbfd@instaff.jobs
DTSTAMP:20260421T053439Z
LOCATION:Leipziger Messe\, Messe-Allee 1\, 04356 Leipzig
DTSTART;TZID=Europe/Brussels:20270302T070000Z
DTEND;TZID=Europe/Brussels:20270305T160000Z
SUMMARY:Z - Zuliefermesse 2027
DESCRIPTION:https://www.google.com/maps/search/?api=1&query=Leipziger+Messe%2C+Messe-Allee+1%2C+04356+Leipzig
END:VEVENT
END:VCALENDAR