BEGIN:VCALENDAR
VERSION:2.0
PRODID:-//InStaff und Jobs GmbH
BEGIN:VEVENT
UID:d85e37d555e6c2baac0bafdd18cbc1be@instaff.jobs
DTSTAMP:20260424T184050Z
LOCATION:Messe München\, Messegelände\, 81823 München
DTSTART;TZID=Europe/Brussels:20270426T070000Z
DTEND;TZID=Europe/Brussels:20270429T160000Z
SUMMARY:air cargo Europe 2027
DESCRIPTION:https://www.google.com/maps/search/?api=1&query=Messe+München%2C+Messegelände%2C+81823+München
END:VEVENT
END:VCALENDAR